BEGIN:VCALENDAR
VERSION:2.0
PRODID:-//Nagoya Motor Internasional | Indonesia Genuine Parts Supplier - ECPv6.15.20//NONSGML v1.0//EN
CALSCALE:GREGORIAN
METHOD:PUBLISH
X-WR-CALNAME:Nagoya Motor Internasional | Indonesia Genuine Parts Supplier
X-ORIGINAL-URL:https://nagoyamotor.com
X-WR-CALDESC:Events for Nagoya Motor Internasional | Indonesia Genuine Parts Supplier
REFRESH-INTERVAL;VALUE=DURATION:PT1H
X-Robots-Tag:noindex
X-PUBLISHED-TTL:PT1H
BEGIN:VTIMEZONE
TZID:Asia/Krasnoyarsk
BEGIN:STANDARD
TZOFFSETFROM:+0700
TZOFFSETTO:+0700
TZNAME:+07
DTSTART:20150101T000000
END:STANDARD
END:VTIMEZONE
BEGIN:VTIMEZONE
TZID:Africa/Abidjan
BEGIN:STANDARD
TZOFFSETFROM:+0000
TZOFFSETTO:+0000
TZNAME:GMT
DTSTART:20160101T000000
END:STANDARD
END:VTIMEZONE
BEGIN:VEVENT
DTSTART;VALUE=DATE:20231107
DTEND;VALUE=DATE:20231113
DTSTAMP:20260420T003753
CREATED:20240219T071539Z
LAST-MODIFIED:20240219T071539Z
UID:1392-1699315200-1699833599@nagoyamotor.com
SUMMARY:EICMA 2023
DESCRIPTION:  \n  \n  \n  \n  \n 
URL:https://nagoyamotor.com/event/eicma-2023/
LOCATION:Milan\, Ro Fiera\, Italy
CATEGORIES:Exhibition
ATTACH;FMTTYPE=image/jpeg:https://nagoyamotor.com/wp-content/uploads/2024/02/Eicma-new-logo.jpg
END:VEVENT
BEGIN:VEVENT
DTSTART;VALUE=DATE:20230524
DTEND;VALUE=DATE:20230527
DTSTAMP:20260420T003753
CREATED:20240219T070433Z
LAST-MODIFIED:20240219T070455Z
UID:1385-1684886400-1685145599@nagoyamotor.com
SUMMARY:INAPA Exhibition 2023
DESCRIPTION:Our booth :\n#A5A2-01 \n  \n  \n  \n  \n 
URL:https://nagoyamotor.com/event/inapa-exhibition-2023/
LOCATION:Jakarta International Expo\, Kemayoran
CATEGORIES:Exhibition
ATTACH;FMTTYPE=image/jpeg:https://nagoyamotor.com/wp-content/uploads/2024/02/Inapa.jpg
END:VEVENT
BEGIN:VEVENT
DTSTART;TZID=Africa/Abidjan:20230510T084500
DTEND;TZID=Africa/Abidjan:20230512T084500
DTSTAMP:20260420T003753
CREATED:20240219T065635Z
LAST-MODIFIED:20240219T065635Z
UID:1382-1683708300-1683881100@nagoyamotor.com
SUMMARY:China Motor Cycle Parts Fair 2023
DESCRIPTION:
URL:https://nagoyamotor.com/event/china-motor-cycle-parts-fair-2023/
LOCATION:Chongqing International Expo Center
CATEGORIES:Exhibition
ATTACH;FMTTYPE=image/jpeg:https://nagoyamotor.com/wp-content/uploads/2019/03/MPF.jpg
END:VEVENT
BEGIN:VEVENT
DTSTART;VALUE=DATE:20191105
DTEND;VALUE=DATE:20191111
DTSTAMP:20260420T003753
CREATED:20240219T065243Z
LAST-MODIFIED:20240219T065353Z
UID:1379-1572912000-1573430399@nagoyamotor.com
SUMMARY:EICMA 2019
DESCRIPTION:  \n  \n  \n  \n  \n 
URL:https://nagoyamotor.com/event/eicma-2019/
LOCATION:Milan\, Ro Fiera\, Italy
CATEGORIES:Exhibition
ATTACH;FMTTYPE=image/jpeg:https://nagoyamotor.com/wp-content/uploads/2024/02/Eicma-new.jpg
END:VEVENT
BEGIN:VEVENT
DTSTART;TZID=Africa/Abidjan:20190523T084500
DTEND;TZID=Africa/Abidjan:20190526T084500
DTSTAMP:20260420T003753
CREATED:20240219T064809Z
LAST-MODIFIED:20240219T064918Z
UID:1377-1558601100-1558860300@nagoyamotor.com
SUMMARY:Saigon Autotech 2019
DESCRIPTION:
URL:https://nagoyamotor.com/event/saigon-autotech-2019/
LOCATION:Ho Chi Minh\, Viet Nam
CATEGORIES:Exhibition
ATTACH;FMTTYPE=image/jpeg:https://nagoyamotor.com/wp-content/uploads/2024/02/Saigon.jpg
END:VEVENT
BEGIN:VEVENT
DTSTART;VALUE=DATE:20190425
DTEND;VALUE=DATE:20190429
DTSTAMP:20260420T003753
CREATED:20240217T090736Z
LAST-MODIFIED:20240219T071840Z
UID:1362-1556150400-1556495999@nagoyamotor.com
SUMMARY:Taipei AMPA 2019
DESCRIPTION:  \n  \n  \n  \n  \n 
URL:https://nagoyamotor.com/event/taipei-ampa-2019/
LOCATION:Nangang Exhibition Center
CATEGORIES:Exhibition
ATTACH;FMTTYPE=image/jpeg:https://nagoyamotor.com/wp-content/uploads/2024/02/Taipei-ampa.jpg
END:VEVENT
BEGIN:VEVENT
DTSTART;VALUE=DATE:20190320
DTEND;VALUE=DATE:20190323
DTSTAMP:20260420T003753
CREATED:20190318T160320Z
LAST-MODIFIED:20240219T070545Z
UID:824-1553040000-1553299199@nagoyamotor.com
SUMMARY:INAPA Exhibition 2019
DESCRIPTION:Our booth :\n#A1C4-01 \n  \n  \n  \n  \n 
URL:https://nagoyamotor.com/event/inapa-exhibition-2019/
LOCATION:Jakarta International Expo\, Kemayoran
CATEGORIES:Exhibition
ATTACH;FMTTYPE=image/jpeg:https://nagoyamotor.com/wp-content/uploads/2024/02/Inapa.jpg
END:VEVENT
BEGIN:VEVENT
DTSTART;VALUE=DATE:20181106
DTEND;VALUE=DATE:20181112
DTSTAMP:20260420T003753
CREATED:20240217T085421Z
LAST-MODIFIED:20240219T065209Z
UID:1354-1541462400-1541980799@nagoyamotor.com
SUMMARY:EICMA 2018
DESCRIPTION:  \n  \n  \n  \n  \n 
URL:https://nagoyamotor.com/event/eicma-2018/
LOCATION:Milan\, Ro Fiera\, Italy
CATEGORIES:Exhibition
ATTACH;FMTTYPE=image/jpeg:https://nagoyamotor.com/wp-content/uploads/2024/02/Eicma-new.jpg
END:VEVENT
BEGIN:VEVENT
DTSTART;TZID=Africa/Abidjan:20180524T084500
DTEND;TZID=Africa/Abidjan:20180527T084500
DTSTAMP:20260420T003753
CREATED:20240217T075633Z
LAST-MODIFIED:20240217T083835Z
UID:1334-1527151500-1527410700@nagoyamotor.com
SUMMARY:Saigon Autotech 2018
DESCRIPTION:
URL:https://nagoyamotor.com/event/china-motor-cycle-parts-fair-2017/
LOCATION:Ho Chi Minh\, Viet Nam
CATEGORIES:Exhibition
ATTACH;FMTTYPE=image/jpeg:https://nagoyamotor.com/wp-content/uploads/2024/02/Saigon.jpg
END:VEVENT
BEGIN:VEVENT
DTSTART;TZID=Africa/Abidjan:20171010T084500
DTEND;TZID=Africa/Abidjan:20171010T084500
DTSTAMP:20260420T003753
CREATED:20240217T083948Z
LAST-MODIFIED:20240219T064407Z
UID:1345-1507625100-1507625100@nagoyamotor.com
SUMMARY:China Motor Cycle Parts Fair 2017
DESCRIPTION:
URL:https://nagoyamotor.com/event/china-motor-cycle-parts-fair-2017-2/
LOCATION:Chongqing International Expo Center
CATEGORIES:Exhibition
ATTACH;FMTTYPE=image/jpeg:https://nagoyamotor.com/wp-content/uploads/2019/03/MPF.jpg
END:VEVENT
BEGIN:VEVENT
DTSTART;TZID=Asia/Krasnoyarsk:20160608T084500
DTEND;TZID=Asia/Krasnoyarsk:20160609T214500
DTSTAMP:20260420T003753
CREATED:20190310T152717Z
LAST-MODIFIED:20240219T064339Z
UID:442-1465375500-1465508700@nagoyamotor.com
SUMMARY:China Motor Cycle Parts Fair 2016
DESCRIPTION:
URL:https://nagoyamotor.com/event/china-exhibition-2016/
LOCATION:Chongqing International Expo Center\, Chongqing\, China
CATEGORIES:Exhibition
ATTACH;FMTTYPE=image/jpeg:https://nagoyamotor.com/wp-content/uploads/2019/03/MPF.jpg
END:VEVENT
END:VCALENDAR